BEGIN:VCALENDAR
VERSION:2.0
PRODID:-//WSV Den Osse - ECPv6.15.20//NONSGML v1.0//EN
CALSCALE:GREGORIAN
METHOD:PUBLISH
X-ORIGINAL-URL:https://www.wsvdenosse.nl
X-WR-CALDESC:Evenementen voor WSV Den Osse
REFRESH-INTERVAL;VALUE=DURATION:PT1H
X-Robots-Tag:noindex
X-PUBLISHED-TTL:PT1H
BEGIN:VTIMEZONE
TZID:Europe/Paris
BEGIN:DAYLIGHT
TZOFFSETFROM:+0100
TZOFFSETTO:+0200
TZNAME:CEST
DTSTART:20250330T010000
END:DAYLIGHT
BEGIN:STANDARD
TZOFFSETFROM:+0200
TZOFFSETTO:+0100
TZNAME:CET
DTSTART:20251026T010000
END:STANDARD
BEGIN:DAYLIGHT
TZOFFSETFROM:+0100
TZOFFSETTO:+0200
TZNAME:CEST
DTSTART:20260329T010000
END:DAYLIGHT
BEGIN:STANDARD
TZOFFSETFROM:+0200
TZOFFSETTO:+0100
TZNAME:CET
DTSTART:20261025T010000
END:STANDARD
BEGIN:DAYLIGHT
TZOFFSETFROM:+0100
TZOFFSETTO:+0200
TZNAME:CEST
DTSTART:20270328T010000
END:DAYLIGHT
BEGIN:STANDARD
TZOFFSETFROM:+0200
TZOFFSETTO:+0100
TZNAME:CET
DTSTART:20271031T010000
END:STANDARD
END:VTIMEZONE
BEGIN:VEVENT
DTSTART;TZID=Europe/Paris:20260110T150000
DTEND;TZID=Europe/Paris:20260110T180000
DTSTAMP:20260424T183745
CREATED:20251223T163513Z
LAST-MODIFIED:20251223T163513Z
UID:6946-1768057200-1768068000@www.wsvdenosse.nl
SUMMARY:Nieuwjaarsborrel
DESCRIPTION:Komt u het glas met ons heffen op een prachtig nieuw zeilseizoen? In Waypoint is het warm en gezellig\, van 15.00 18.00 op zaterdag 10 januari. Wel graag even laten weten op clubleven@wsvdenosse.nl\, zodat we weten hoeveel we moeten inslaan. Aanmelden kan tot 6 januari. Graag tot ziens!
URL:https://www.wsvdenosse.nl/event/nieuwjaarsborrel-2/
CATEGORIES:nieuwjaarsborrel
ATTACH;FMTTYPE=image/jpeg:https://www.wsvdenosse.nl/wp-content/uploads/2022/11/happy-new-year-klein.jpeg
END:VEVENT
END:VCALENDAR