BEGIN:VCALENDAR
VERSION:2.0
PRODID:-//WSV Den Osse - ECPv6.15.20//NONSGML v1.0//EN
CALSCALE:GREGORIAN
METHOD:PUBLISH
X-WR-CALNAME:WSV Den Osse
X-ORIGINAL-URL:https://www.wsvdenosse.nl
X-WR-CALDESC:Evenementen voor WSV Den Osse
REFRESH-INTERVAL;VALUE=DURATION:PT1H
X-Robots-Tag:noindex
X-PUBLISHED-TTL:PT1H
BEGIN:VTIMEZONE
TZID:Europe/Paris
BEGIN:DAYLIGHT
TZOFFSETFROM:+0100
TZOFFSETTO:+0200
TZNAME:CEST
DTSTART:20250330T010000
END:DAYLIGHT
BEGIN:STANDARD
TZOFFSETFROM:+0200
TZOFFSETTO:+0100
TZNAME:CET
DTSTART:20251026T010000
END:STANDARD
BEGIN:DAYLIGHT
TZOFFSETFROM:+0100
TZOFFSETTO:+0200
TZNAME:CEST
DTSTART:20260329T010000
END:DAYLIGHT
BEGIN:STANDARD
TZOFFSETFROM:+0200
TZOFFSETTO:+0100
TZNAME:CET
DTSTART:20261025T010000
END:STANDARD
BEGIN:DAYLIGHT
TZOFFSETFROM:+0100
TZOFFSETTO:+0200
TZNAME:CEST
DTSTART:20270328T010000
END:DAYLIGHT
BEGIN:STANDARD
TZOFFSETFROM:+0200
TZOFFSETTO:+0100
TZNAME:CET
DTSTART:20271031T010000
END:STANDARD
END:VTIMEZONE
BEGIN:VEVENT
DTSTART;TZID=Europe/Paris:20260406T110000
DTEND;TZID=Europe/Paris:20260406T130000
DTSTAMP:20260425T175656
CREATED:20251223T164702Z
LAST-MODIFIED:20260324T103232Z
UID:6950-1775473200-1775480400@www.wsvdenosse.nl
SUMMARY:Paasbrunch
DESCRIPTION:Op tweede paasdag\, 6 april nodigen wij u uit voor een heerlijke paasbrunch\, met o.a. onvolprezen gebakken eieren van Robert en alles wat bij zo’n brunch hoort.
URL:https://www.wsvdenosse.nl/event/paasbrunch/
LOCATION:Terras voor Waypoint
CATEGORIES:jeugdactiviteiten
ATTACH;FMTTYPE=image/jpeg:https://www.wsvdenosse.nl/wp-content/uploads/2026/03/paasbrunch.jpg
END:VEVENT
END:VCALENDAR