BEGIN:VCALENDAR
VERSION:2.0
PRODID:-//WSV Den Osse - ECPv6.15.20//NONSGML v1.0//EN
CALSCALE:GREGORIAN
METHOD:PUBLISH
X-WR-CALNAME:WSV Den Osse
X-ORIGINAL-URL:https://www.wsvdenosse.nl
X-WR-CALDESC:Evenementen voor WSV Den Osse
REFRESH-INTERVAL;VALUE=DURATION:PT1H
X-Robots-Tag:noindex
X-PUBLISHED-TTL:PT1H
BEGIN:VTIMEZONE
TZID:Europe/Paris
BEGIN:DAYLIGHT
TZOFFSETFROM:+0100
TZOFFSETTO:+0200
TZNAME:CEST
DTSTART:20220327T010000
END:DAYLIGHT
BEGIN:STANDARD
TZOFFSETFROM:+0200
TZOFFSETTO:+0100
TZNAME:CET
DTSTART:20221030T010000
END:STANDARD
BEGIN:DAYLIGHT
TZOFFSETFROM:+0100
TZOFFSETTO:+0200
TZNAME:CEST
DTSTART:20230326T010000
END:DAYLIGHT
BEGIN:STANDARD
TZOFFSETFROM:+0200
TZOFFSETTO:+0100
TZNAME:CET
DTSTART:20231029T010000
END:STANDARD
BEGIN:DAYLIGHT
TZOFFSETFROM:+0100
TZOFFSETTO:+0200
TZNAME:CEST
DTSTART:20240331T010000
END:DAYLIGHT
BEGIN:STANDARD
TZOFFSETFROM:+0200
TZOFFSETTO:+0100
TZNAME:CET
DTSTART:20241027T010000
END:STANDARD
BEGIN:DAYLIGHT
TZOFFSETFROM:+0100
TZOFFSETTO:+0200
TZNAME:CEST
DTSTART:20250330T010000
END:DAYLIGHT
BEGIN:STANDARD
TZOFFSETFROM:+0200
TZOFFSETTO:+0100
TZNAME:CET
DTSTART:20251026T010000
END:STANDARD
BEGIN:DAYLIGHT
TZOFFSETFROM:+0100
TZOFFSETTO:+0200
TZNAME:CEST
DTSTART:20260329T010000
END:DAYLIGHT
BEGIN:STANDARD
TZOFFSETFROM:+0200
TZOFFSETTO:+0100
TZNAME:CET
DTSTART:20261025T010000
END:STANDARD
BEGIN:DAYLIGHT
TZOFFSETFROM:+0100
TZOFFSETTO:+0200
TZNAME:CEST
DTSTART:20270328T010000
END:DAYLIGHT
BEGIN:STANDARD
TZOFFSETFROM:+0200
TZOFFSETTO:+0100
TZNAME:CET
DTSTART:20271031T010000
END:STANDARD
END:VTIMEZONE
BEGIN:VEVENT
DTSTART;TZID=Europe/Paris:20260406T110000
DTEND;TZID=Europe/Paris:20260406T130000
DTSTAMP:20260425T142527
CREATED:20251223T164702Z
LAST-MODIFIED:20260324T103232Z
UID:6950-1775473200-1775480400@www.wsvdenosse.nl
SUMMARY:Paasbrunch
DESCRIPTION:Op tweede paasdag\, 6 april nodigen wij u uit voor een heerlijke paasbrunch\, met o.a. onvolprezen gebakken eieren van Robert en alles wat bij zo’n brunch hoort.
URL:https://www.wsvdenosse.nl/event/paasbrunch/
LOCATION:Terras voor Waypoint
CATEGORIES:jeugdactiviteiten
ATTACH;FMTTYPE=image/jpeg:https://www.wsvdenosse.nl/wp-content/uploads/2026/03/paasbrunch.jpg
END:VEVENT
BEGIN:VEVENT
DTSTART;TZID=Europe/Paris:20250831T093000
DTEND;TZID=Europe/Paris:20250831T120000
DTSTAMP:20260425T142527
CREATED:20250211T173751Z
LAST-MODIFIED:20250803T170606Z
UID:6421-1756632600-1756641600@www.wsvdenosse.nl
SUMMARY:Afsluiting jeugdzeil seizoen
DESCRIPTION:Details zijn nog niet bekend\, maar de kids gaan geheid iets met water doen\, en niet in de eigen haven! Wordt vervolgd…
URL:https://www.wsvdenosse.nl/event/uitloopochtend-optimistzeilen-wedstrijdjes-zeilen/
LOCATION:waterjump ouddorp\, Ossenhoek\, Ouddorp\, Zuid-Holland\, 3253MH\, Netherlands
CATEGORIES:jeugdactiviteiten
ATTACH;FMTTYPE=image/webp:https://www.wsvdenosse.nl/wp-content/uploads/2025/08/waterjump.webp
END:VEVENT
BEGIN:VEVENT
DTSTART;TZID=Europe/Paris:20250629T093000
DTEND;TZID=Europe/Paris:20250629T120000
DTSTAMP:20260425T142527
CREATED:20250211T173418Z
LAST-MODIFIED:20250211T173510Z
UID:6418-1751189400-1751198400@www.wsvdenosse.nl
SUMMARY:Optimistzeilen dag 5
DESCRIPTION:Op deze ochtend kun je laten zien hoe goed je al met je boot overweg kan.
URL:https://www.wsvdenosse.nl/event/optimistzeilen-dag-5/
LOCATION:Havenkom
CATEGORIES:jeugdactiviteiten,jeugdzeilen
END:VEVENT
BEGIN:VEVENT
DTSTART;TZID=Europe/Paris:20250615T093000
DTEND;TZID=Europe/Paris:20250615T120000
DTSTAMP:20260425T142527
CREATED:20250211T173257Z
LAST-MODIFIED:20250211T173257Z
UID:6416-1749979800-1749988800@www.wsvdenosse.nl
SUMMARY:Optimistzeilen dag 4
DESCRIPTION:
URL:https://www.wsvdenosse.nl/event/optimistzeilen-dag-4/
LOCATION:Havenkom
CATEGORIES:jeugdactiviteiten,jeugdzeilen
END:VEVENT
BEGIN:VEVENT
DTSTART;TZID=Europe/Paris:20250525T093000
DTEND;TZID=Europe/Paris:20250525T120000
DTSTAMP:20260425T142527
CREATED:20250211T173122Z
LAST-MODIFIED:20250211T173122Z
UID:6414-1748165400-1748174400@www.wsvdenosse.nl
SUMMARY:Optimistzeilen dag 3
DESCRIPTION:
URL:https://www.wsvdenosse.nl/event/optimistzeilen-dag-3/
LOCATION:Havenkom
CATEGORIES:jeugdactiviteiten,jeugdzeilen
END:VEVENT
BEGIN:VEVENT
DTSTART;TZID=Europe/Paris:20250518T093000
DTEND;TZID=Europe/Paris:20250518T120000
DTSTAMP:20260425T142527
CREATED:20250211T173006Z
LAST-MODIFIED:20250211T173006Z
UID:6412-1747560600-1747569600@www.wsvdenosse.nl
SUMMARY:Optimistzeilen dag 2
DESCRIPTION:Hoe moet je tegen de wind in varen? (Spoiler: dat kan niet)
URL:https://www.wsvdenosse.nl/event/optimistzeilen-dag-2/
LOCATION:Havenkom
CATEGORIES:jeugdactiviteiten,jeugdzeilen
END:VEVENT
BEGIN:VEVENT
DTSTART;TZID=Europe/Paris:20250511T093000
DTEND;TZID=Europe/Paris:20250511T120000
DTSTAMP:20260425T142527
CREATED:20250211T172729Z
LAST-MODIFIED:20250211T172729Z
UID:6410-1746955800-1746964800@www.wsvdenosse.nl
SUMMARY:Optimistzeilen dag 1
DESCRIPTION:We gaan weer plezier maken met Optimisten. De eerste beginselen van het zeilen met de optimist\, knopen\, waar komt de wind vandaan\, enz.\, onderdelen van de boot… en het water op!
URL:https://www.wsvdenosse.nl/event/optimistzeilen-dag-1/
LOCATION:Havenkom
CATEGORIES:jeugdactiviteiten,jeugdzeilen
ATTACH;FMTTYPE=image/jpeg:https://www.wsvdenosse.nl/wp-content/uploads/2021/02/76FD8CFE-60F9-40DE-8C00-080BB660D21E_1_105_c.jpeg
END:VEVENT
BEGIN:VEVENT
DTSTART;TZID=Europe/Paris:20250419T100000
DTEND;TZID=Europe/Paris:20250419T120000
DTSTAMP:20260425T142527
CREATED:20250408T154452Z
LAST-MODIFIED:20250408T154452Z
UID:6652-1745056800-1745064000@www.wsvdenosse.nl
SUMMARY:Paaseieren zoeken
DESCRIPTION:Kom je ook? Alle kinderen en kleinkinderen van WSV Den Osse kunnen zaterdag 19 april paaseieren zoeken op het strandje. Kinderen tot 6 jaar om 10.00 uur en vanaf 7 om 11 uur. Iedereen krijgt een aardigheidje. Wel even aanmelden bij jeugdzeilen@wsvdenosse.nl\, voor 15 april as. Papa’s en mama’s: we hebben jullie hulp nodig\, anders kan het niet doorgaan. We horen graag van jullie
URL:https://www.wsvdenosse.nl/event/paaseieren-zoeken-2/
LOCATION:Speelstrandje
CATEGORIES:jeugdactiviteiten
ATTACH;FMTTYPE=image/jpeg:https://www.wsvdenosse.nl/wp-content/uploads/2023/03/paaseieren-zoeken-2023.jpeg
END:VEVENT
BEGIN:VEVENT
DTSTART;TZID=Europe/Paris:20240907T110000
DTEND;TZID=Europe/Paris:20240907T170000
DTSTAMP:20260425T142527
CREATED:20240827T182837Z
LAST-MODIFIED:20240827T193831Z
UID:6116-1725706800-1725728400@www.wsvdenosse.nl
SUMMARY:Afsluiting Jeugdseizoen
DESCRIPTION:Onze jaarlijkse afsluiting van het jeugdseizoen. Met natuurlijk o.a. een stormbaan\, en iets te eten en te drinken. Jullie komen toch ook? Aanmelden niet nodig. En vraag gelijk aan je ouders of ze willen helpen. 
URL:https://www.wsvdenosse.nl/event/afsluiting-jeugdseizoen-2/
LOCATION:Speelstrandje
CATEGORIES:jeugdactiviteiten
END:VEVENT
BEGIN:VEVENT
DTSTART;TZID=Europe/Paris:20240706T093000
DTEND;TZID=Europe/Paris:20240706T123000
DTSTAMP:20260425T142527
CREATED:20240602T142300Z
LAST-MODIFIED:20240602T142300Z
UID:5664-1720258200-1720269000@www.wsvdenosse.nl
SUMMARY:Plezier met Optimisten uitloopdag
DESCRIPTION:Deze gaat alleen door als een van de andere ochtenden is uitgevallen.
URL:https://www.wsvdenosse.nl/event/plezier-met-optimisten-uitloopdag/
LOCATION:Havenkom
CATEGORIES:jeugdactiviteiten,jeugdzeilen
ATTACH;FMTTYPE=image/jpeg:https://www.wsvdenosse.nl/wp-content/uploads/2021/04/FA20FDB3-8CA0-4E17-AEAE-2624F175A02D_1_105_c.jpeg
END:VEVENT
BEGIN:VEVENT
DTSTART;TZID=Europe/Paris:20240630T080000
DTEND;TZID=Europe/Paris:20240630T170000
DTSTAMP:20260425T142527
CREATED:20240210T142417Z
LAST-MODIFIED:20240210T143235Z
UID:5662-1719734400-1719766800@www.wsvdenosse.nl
SUMMARY:Plezier maken met Optimisten dag 5
DESCRIPTION:Laatste ochtend van plezier maken met Optimisten
URL:https://www.wsvdenosse.nl/event/plezier-maken-met-optimisten-dag-5/
LOCATION:Havenkom
CATEGORIES:jeugdactiviteiten,jeugdzeilen
ATTACH;FMTTYPE=image/jpeg:https://www.wsvdenosse.nl/wp-content/uploads/2023/01/20220625_112002-scaled.jpg
END:VEVENT
BEGIN:VEVENT
DTSTART;TZID=Europe/Paris:20240623T093000
DTEND;TZID=Europe/Paris:20240623T123000
DTSTAMP:20260425T142527
CREATED:20240210T140742Z
LAST-MODIFIED:20240210T142452Z
UID:5657-1719135000-1719145800@www.wsvdenosse.nl
SUMMARY:Plezier maken met Optimisten dag 4
DESCRIPTION:De 4e ochtend van Plezier maken met Optimisten
URL:https://www.wsvdenosse.nl/event/plezier-maken-met-optimisten-dag-4/
LOCATION:Havenkom
CATEGORIES:jeugdactiviteiten,jeugdzeilen
ATTACH;FMTTYPE=image/jpeg:https://www.wsvdenosse.nl/wp-content/uploads/2021/04/Jeugdzeilen-Den-Osse.jpg
END:VEVENT
BEGIN:VEVENT
DTSTART;TZID=Europe/Paris:20240609T093000
DTEND;TZID=Europe/Paris:20240609T123000
DTSTAMP:20260425T142527
CREATED:20240210T140139Z
LAST-MODIFIED:20240517T163035Z
UID:5652-1717925400-1717936200@www.wsvdenosse.nl
SUMMARY:Plezier maken met Optimisten dag 3
DESCRIPTION:Dag 3 van plezier maken met Optimisten.  
URL:https://www.wsvdenosse.nl/event/plezier-maken-met-optimisten-dag-3/
LOCATION:Havenkom
CATEGORIES:jeugdactiviteiten,jeugdzeilen
ATTACH;FMTTYPE=image/jpeg:https://www.wsvdenosse.nl/wp-content/uploads/2021/04/76FD8CFE-60F9-40DE-8C00-080BB660D21E-e1715963401103.jpeg
END:VEVENT
BEGIN:VEVENT
DTSTART;TZID=Europe/Paris:20240602T093000
DTEND;TZID=Europe/Paris:20240602T123000
DTSTAMP:20260425T142527
CREATED:20240210T135320Z
LAST-MODIFIED:20240210T140321Z
UID:5642-1717320600-1717331400@www.wsvdenosse.nl
SUMMARY:Plezier maken met Optimisten dag 2
DESCRIPTION:Dag 2 van plezier maken met Optimisten\, Pico’s en de Valk.  
URL:https://www.wsvdenosse.nl/event/plezier-maken-met-optimisten/
LOCATION:Havenkom
CATEGORIES:jeugdactiviteiten,jeugdzeilen
ATTACH;FMTTYPE=image/jpeg:https://www.wsvdenosse.nl/wp-content/uploads/2023/01/20220625_112133-scaled.jpg
END:VEVENT
BEGIN:VEVENT
DTSTART;TZID=Europe/Paris:20240526T093000
DTEND;TZID=Europe/Paris:20240526T123000
DTSTAMP:20260425T142527
CREATED:20240210T135635Z
LAST-MODIFIED:20240517T162411Z
UID:5644-1716715800-1716726600@www.wsvdenosse.nl
SUMMARY:Plezier maken met Optimisten -
DESCRIPTION:Bijzonderheden in de nieuwsbrief van mei\, aanmelding via jeugdzeilen@wsvdenosse.nl. Er zijn nog enkele plekken vrij. Ook dit jaar gaan we weer plezier maken met Optimisten\, Pico’s en de Valk \, nu op zondag i.p.v. zaterdag. 
URL:https://www.wsvdenosse.nl/event/plezier-maken-met-optimisten-copy/
CATEGORIES:jeugdactiviteiten,jeugdzeilen
ATTACH;FMTTYPE=image/jpeg:https://www.wsvdenosse.nl/wp-content/uploads/2023/03/logo-kids-e1715963036168.jpeg
END:VEVENT
BEGIN:VEVENT
DTSTART;TZID=Europe/Paris:20240331T120000
DTEND;TZID=Europe/Paris:20240331T170000
DTSTAMP:20260425T142527
CREATED:20240324T102827Z
LAST-MODIFIED:20240324T102827Z
UID:5818-1711886400-1711904400@www.wsvdenosse.nl
SUMMARY:Stormbaan
DESCRIPTION:Alweer zo’n geweldige stormbaan voor de jeugd op het strandje. Paaszondag kunnen de kids los gaan!
URL:https://www.wsvdenosse.nl/event/stormbaan/
LOCATION:Speelstrandje
CATEGORIES:jeugdactiviteiten
END:VEVENT
BEGIN:VEVENT
DTSTART;TZID=Europe/Paris:20240331T110000
DTEND;TZID=Europe/Paris:20240331T123000
DTSTAMP:20260425T142527
CREATED:20240324T102343Z
LAST-MODIFIED:20240324T123254Z
UID:5816-1711882800-1711888200@www.wsvdenosse.nl
SUMMARY:Paaseieren zoeken
DESCRIPTION:Paashaas Marcelle heeft de eieren goed verstopt\, dus komen jullie allemaal helpen zoeken! 
URL:https://www.wsvdenosse.nl/event/paaseieren-zoeken/
CATEGORIES:jeugdactiviteiten
ATTACH;FMTTYPE=image/jpeg:https://www.wsvdenosse.nl/wp-content/uploads/2023/03/paaseieren-zoeken-2023.jpeg
END:VEVENT
BEGIN:VEVENT
DTSTART;TZID=Europe/Paris:20230909T100000
DTEND;TZID=Europe/Paris:20230909T170000
DTSTAMP:20260425T142527
CREATED:20230131T114402Z
LAST-MODIFIED:20230907T174118Z
UID:3849-1694253600-1694278800@www.wsvdenosse.nl
SUMMARY:Afsluiting jeugdseizoen
DESCRIPTION:Wat wordt het een prachtig weer komend weekend! Dat komt heel mooi uit\, want zaterdag is de feestelijke afsluiting van het seizoen voor de jeugd. We hebben leuke activiteiten gehad dit jaar en we hebben alweer hele leuke plannen voor volgend jaar.\nMaar eerst gaan we met z’n allen pannenkoeken en poffertjes eten op het strandje. Voor de papa’s en mama’s zijn er vast wel een paar extra. En daarna nog één keertje los op de stormbaan! (Dat geldt dan weer niet voor de papa’s en mama’s ).
URL:https://www.wsvdenosse.nl/event/afsluiting-jeugdseizoen/
LOCATION:Speelstrandje
CATEGORIES:jeugdactiviteiten
END:VEVENT
BEGIN:VEVENT
DTSTART;TZID=Europe/Paris:20230708T093000
DTEND;TZID=Europe/Paris:20230708T170000
DTSTAMP:20260425T142527
CREATED:20230622T105404Z
LAST-MODIFIED:20230623T080322Z
UID:4696-1688808600-1688835600@www.wsvdenosse.nl
SUMMARY:Optimist on Tour
DESCRIPTION:Evenement vanuit de jachthaven van Den Osse om de jeugd van het eiland kennis te laten maken met het zeilen in een Optimist\, inschrijving via jeugdzeilen@wsvdenosse.nl
URL:https://www.wsvdenosse.nl/event/optimist-on-tour/
CATEGORIES:jeugdactiviteiten,jeugdzeilen
END:VEVENT
BEGIN:VEVENT
DTSTART;TZID=Europe/Paris:20230708T093000
DTEND;TZID=Europe/Paris:20230708T123000
DTSTAMP:20260425T142527
CREATED:20230130T115010Z
LAST-MODIFIED:20230131T123139Z
UID:3836-1688808600-1688819400@www.wsvdenosse.nl
SUMMARY:Uitloopdag Plezier maken met Optimisten
DESCRIPTION:Als een van de voorgaande ochtenden door omstandigheden is uitgevallen\, wordt die hier ingehaald.
URL:https://www.wsvdenosse.nl/event/plezier-maken-met-optimisten-4-3/
CATEGORIES:jeugdactiviteiten,jeugdzeilen
END:VEVENT
BEGIN:VEVENT
DTSTART;TZID=Europe/Paris:20230701T093000
DTEND;TZID=Europe/Paris:20230701T123000
DTSTAMP:20260425T142527
CREATED:20230130T114802Z
LAST-MODIFIED:20230131T122746Z
UID:3834-1688203800-1688214600@www.wsvdenosse.nl
SUMMARY:Plezier maken met Optimisten 5
DESCRIPTION:De laatste van vijf ochtenden plezier maken in onze verenigingsOptimisten. 
URL:https://www.wsvdenosse.nl/event/plezier-maken-met-optimisten-4-2/
CATEGORIES:jeugdactiviteiten,jeugdzeilen
ATTACH;FMTTYPE=image/jpeg:https://www.wsvdenosse.nl/wp-content/uploads/2021/04/FA20FDB3-8CA0-4E17-AEAE-2624F175A02D_1_105_c.jpeg
END:VEVENT
BEGIN:VEVENT
DTSTART;TZID=Europe/Paris:20230617T100000
DTEND;TZID=Europe/Paris:20230617T190000
DTSTAMP:20260425T142527
CREATED:20230601T102123Z
LAST-MODIFIED:20230601T102617Z
UID:4636-1686996000-1687028400@www.wsvdenosse.nl
SUMMARY:Springkussen
DESCRIPTION:Tijdens de Ossecup is er een springkussen voor de kids
URL:https://www.wsvdenosse.nl/event/springkussen/
LOCATION:Speelstrandje
CATEGORIES:jeugdactiviteiten
END:VEVENT
BEGIN:VEVENT
DTSTART;TZID=Europe/Paris:20230617T093000
DTEND;TZID=Europe/Paris:20230617T123000
DTSTAMP:20260425T142527
CREATED:20230131T122947Z
LAST-MODIFIED:20230131T123111Z
UID:3869-1686994200-1687005000@www.wsvdenosse.nl
SUMMARY:Plezier maken met Optimisten 4
DESCRIPTION:Kinderen van 7 tot en met 12 jaar gaan vijf ochtenden plezier maken in onze verenigingsOptimisten (en leren intussen ook zeilen). Voor voorwaarden en informatie zie onze nieuwsbrief van januari 2023. Aanmelden via jeugdzeilen@wsvdenosse.nl. 
URL:https://www.wsvdenosse.nl/event/plezier-maken-met-optimisten-4/
CATEGORIES:jeugdactiviteiten,jeugdzeilen
ATTACH;FMTTYPE=image/jpeg:https://www.wsvdenosse.nl/wp-content/uploads/2021/04/Jeugdzeilen-Den-Osse.jpg
END:VEVENT
BEGIN:VEVENT
DTSTART;TZID=Europe/Paris:20230616T183000
DTEND;TZID=Europe/Paris:20230616T200000
DTSTAMP:20260425T142527
CREATED:20230130T120411Z
LAST-MODIFIED:20230601T101944Z
UID:3845-1686940200-1686945600@www.wsvdenosse.nl
SUMMARY:Jeugddisco
DESCRIPTION:De kids kunnen lekker los gaan onder leiding van MC Nicole!
URL:https://www.wsvdenosse.nl/event/kinderdisco/
CATEGORIES:jeugdactiviteiten
END:VEVENT
BEGIN:VEVENT
DTSTART;TZID=Europe/Paris:20230603T093000
DTEND;TZID=Europe/Paris:20230603T123000
DTSTAMP:20260425T142527
CREATED:20230130T114348Z
LAST-MODIFIED:20230131T122254Z
UID:3830-1685784600-1685795400@www.wsvdenosse.nl
SUMMARY:Plezier maken met Optimisten 3
DESCRIPTION:Kinderen van 7 tot en met 12 jaar gaan vijf ochtenden plezier maken in onze verenigingsOptimisten (en leren intussen ook zeilen). Voor voorwaarden en informatie zie onze nieuwsbrief van januari 2023. Aanmelden via jeugdzeilen@wsvdenosse.nl. 
URL:https://www.wsvdenosse.nl/event/plezier-maken-met-optimisten-3-2/
CATEGORIES:jeugdactiviteiten,jeugdzeilen
ATTACH;FMTTYPE=image/jpeg:https://www.wsvdenosse.nl/wp-content/uploads/2023/01/20220625_112205-scaled.jpg
END:VEVENT
BEGIN:VEVENT
DTSTART;TZID=Europe/Paris:20230513T093000
DTEND;TZID=Europe/Paris:20230513T123000
DTSTAMP:20260425T142527
CREATED:20230130T114246Z
LAST-MODIFIED:20230130T114246Z
UID:3828-1683970200-1683981000@www.wsvdenosse.nl
SUMMARY:Plezier maken met Optimisten 2
DESCRIPTION:Kinderen van 7 tot en met 12 jaar gaan vijf ochtenden plezier maken in onze verenigingsOptimisten (en leren intussen ook zeilen). Voor voorwaarden en informatie zie onze nieuwsbrief van januari 2023. Aanmelden via jeugdzeilen@wsvdenosse.nl. 
URL:https://www.wsvdenosse.nl/event/plezier-maken-met-optimisten-2-2/
CATEGORIES:jeugdactiviteiten,jeugdzeilen
ATTACH;FMTTYPE=image/jpeg:https://www.wsvdenosse.nl/wp-content/uploads/2021/04/Jeugdzeilen-Den-Osse.jpg
END:VEVENT
BEGIN:VEVENT
DTSTART;TZID=Europe/Paris:20230415T093000
DTEND;TZID=Europe/Paris:20230415T123000
DTSTAMP:20260425T142527
CREATED:20230130T114055Z
LAST-MODIFIED:20230304T125024Z
UID:3826-1681551000-1681561800@www.wsvdenosse.nl
SUMMARY:Plezier maken met Optimisten
DESCRIPTION:We gaan weer Optimist zeilen!\nKinderen van 7 tot en met 12 jaar gaan plezier maken in onze verenigingsoptimisten (en leren intussen ook zeilen).\nVoorwaarden: je moet een zwemdiploma hebben en één van je ouders wil graag helpen; \nDe vijf zaterdagochtenden zijn voor plezier en om de benodigde zeiltechnieken onder de knie te krijgen. Indien er kinderen zijn die aan het einde een CWO certificaat willen halen kunnen we dat organiseren!\nDe zeillessen vinden plaats op zaterdagochtenden van 9:30 tot 12:30 uur: 15 april\, 13 mei\, 3 juni\, 17 juni\, 1 juli (uitloop 8 juli) \nAanmelden kan via jeugdzeilen@wsvdenosse.nl \nDe kosten voor deze ochtenden zijn € 50\,- voor (klein)kinderen van leden. Ook een vriendje of vriendinnetje van kinderen van leden kan deelnemen\, de kosten voor hen bedragen € 75\,- \nEr zijn nog enkele plekken vrij! \n 
URL:https://www.wsvdenosse.nl/event/plezier-maken-met-optimisten-6/
CATEGORIES:jeugdactiviteiten,jeugdzeilen
ATTACH;FMTTYPE=image/jpeg:https://www.wsvdenosse.nl/wp-content/uploads/2023/01/20220625_112002-scaled.jpg
END:VEVENT
BEGIN:VEVENT
DTSTART;TZID=Europe/Paris:20230408T100000
DTEND;TZID=Europe/Paris:20230408T160000
DTSTAMP:20260425T142527
CREATED:20230304T124046Z
LAST-MODIFIED:20230304T132214Z
UID:3952-1680948000-1680969600@www.wsvdenosse.nl
SUMMARY:Paaseieren zoeken en stormbaan
DESCRIPTION:  \nEieren zoeken\, kleurplaten en springkussen/stormbaan! \nTot de leeftijd van 7 jaar vanaf 10:00 uur\nVanaf 8 tot 12 jaar vanaf 11:00 uur \nVerzamelen bij Waypoint/ Havenkantoorplein
URL:https://www.wsvdenosse.nl/event/paaseieren-zoeken-en-stormbaan/
LOCATION:voor het havenkantoor
CATEGORIES:jeugdactiviteiten
ATTACH;FMTTYPE=image/jpeg:https://www.wsvdenosse.nl/wp-content/uploads/2023/03/paaseieren-zoeken-2023.jpeg
END:VEVENT
BEGIN:VEVENT
DTSTART;TZID=Europe/Paris:20230327T200000
DTEND;TZID=Europe/Paris:20230327T213000
DTSTAMP:20260425T142527
CREATED:20230304T132908Z
LAST-MODIFIED:20230304T132908Z
UID:3963-1679947200-1679952600@www.wsvdenosse.nl
SUMMARY:Jeugd Ouder Overleg online
DESCRIPTION:JEUGD OUDER OVERLEG:\nOok dit jaar willen we weer allerlei leuke activiteiten organiseren voor de jeugd uit onze haven! \nMaandag 27 maart jeugd-ouder overleg via Microsoft Teams\, 20.00 uur aanvang.\nWe zijn nog op zoek naar mensen die willen:\n– Meedenken over te organiseren activiteiten\n– Helpen bij het organiseren en/of begeleiden van activiteiten \nAls jij een steentje wil bijdragen met één of meerdere van bovenstaande punten\, stuur ons dan even een mailtje (ook als je 27 maart niet aanwezig kunt zijn\, maar toch wil meehelpen!) jeugdzeilen@wsvdenosse.nl
URL:https://www.wsvdenosse.nl/event/jeugd-ouder-overleg-online/
LOCATION:online
CATEGORIES:jeugdactiviteiten
ATTACH;FMTTYPE=image/jpeg:https://www.wsvdenosse.nl/wp-content/uploads/2023/03/logo-kids-e1715963036168.jpeg
END:VEVENT
END:VCALENDAR